BEGIN:VCALENDAR
VERSION:2.0
METHOD:PUBLISH
PRODID::-//Obvius//NONSGML ICal//DA
BEGIN:VEVENT
UID:2233226@qmath.ku.dk
DESCRIPTION:Official Opening of the Villum Centre of Excellence for the Ma
 thematics of Quantum Theory (QMATH).\n\nhttps://qmath.ku.dk/events/kick-of
 f-conference/
SUMMARY:QMATH Kick-Off Conference
LOCATION: Auditorium 4 of the H.C. Ørsted Institute\, Universitetsparken 
 5\, 2100 Copenhagen Ø.
ORGANIZER:QMATH
DTSTART:20161107T120000Z
DTSTAMP:20161107T120000Z
DTEND:20161109T160000Z
END:VEVENT
END:VCALENDAR
