BEGIN:VCALENDAR
VERSION:2.0
METHOD:PUBLISH
PRODID::-//Obvius//NONSGML ICal//DA
BEGIN:VEVENT
UID:2428316@qmath.ku.dk
DESCRIPTION:Speaker: Michael Kastoryano from Quantop\n\nhttps://qmath.ku.d
 k/events/quantum-lunch/quantum-lunch-2017/michael/
SUMMARY:Quantum Lunch: Local boundary states imply gap for the parent Hami
 ltonian of PEPS
LOCATION:The Quantum Lunch Room 4.4.20
ORGANIZER:Suzanne Andersen
DTSTART:20170315T110000Z
DTSTAMP:20170315T110000Z
DTEND:20170315T120000Z
END:VEVENT
END:VCALENDAR
