BEGIN:VCALENDAR
VERSION:2.0
METHOD:PUBLISH
PRODID::-//Obvius//NONSGML ICal//DA
BEGIN:VEVENT
UID:2835619@qmath.ku.dk
DESCRIPTION:Speaker: Robert Jonsson from QMATH\n\nhttps://qmath.ku.dk/even
 ts/quantum-lunch/quantum-lunch-2018/robert/
SUMMARY:QLunch: Entanglement Extraction\, Energy and Einstein Equation
LOCATION:The Quantum Lunch Room 4.4.20
ORGANIZER:Suzanne Andersen
DTSTART:20180328T100000Z
DTSTAMP:20180328T100000Z
DTEND:20180328T110000Z
END:VEVENT
END:VCALENDAR
