BEGIN:VCALENDAR
VERSION:2.0
METHOD:PUBLISH
PRODID::-//Obvius//NONSGML ICal//DA
BEGIN:VEVENT
UID:3244722@qmath.ku.dk
DESCRIPTION:Speaker: Claire Levaillant\n\nhttps://qmath.ku.dk/events/quant
 um-lunch/quantum-lunch-2018/qseminar-introduction-to-anyonic-quantum-gates
 -i/
SUMMARY:QSeminar: Introduction to anyonic quantum gates I 
LOCATION:The Quantum Lunch Room
ORGANIZER:Suzanne Andersen
DTSTART:20181217T143000Z
DTSTAMP:20181217T143000Z
DTEND:20181217T153000Z
END:VEVENT
END:VCALENDAR
